BEGIN:VCALENDAR
VERSION:2.0
PRODID:-//FODER - ECPv5.1.0//NONSGML v1.0//EN
CALSCALE:GREGORIAN
METHOD:PUBLISH
X-WR-CALNAME:FODER
X-ORIGINAL-URL:https://www.fo-der.org
X-WR-CALDESC:FODER için etkinlikler
BEGIN:VTIMEZONE
TZID:Europe/Istanbul
BEGIN:STANDARD
TZOFFSETFROM:+0300
TZOFFSETTO:+0300
TZNAME:+03
DTSTART:20210101T000000
END:STANDARD
END:VTIMEZONE
BEGIN:VEVENT
DTSTART;TZID=Europe/Istanbul:20211021T090000
DTEND;TZID=Europe/Istanbul:20211021T130000
DTSTAMP:20260423T013745
CREATED:20221021T062058Z
LAST-MODIFIED:20221021T062058Z
UID:8500-1634806800-1634821200@www.fo-der.org
SUMMARY:Robert College Financial Literacy Project
DESCRIPTION:Two high school students carried out a peer education financial literacy project with 20 student volunteers from their school\, Robert College\, a high school in Istanbul\, in 2021 and 2022; in which\, more than 100 high school students from 3 cities in Turkey joined the program in total. Guest speakers from FODER participated in both programs. \n
URL:https://www.fo-der.org/etkinlik/robert-college-financial-literacy-project/
ATTACH;FMTTYPE=image/jpeg:https://www.fo-der.org/wp-content/uploads/2022/10/RobertCollegeGouldHall1.jpeg
END:VEVENT
END:VCALENDAR