BEGIN:VCALENDAR
VERSION:2.0
PRODID:-//FODER - ECPv5.1.0//NONSGML v1.0//EN
CALSCALE:GREGORIAN
METHOD:PUBLISH
X-WR-CALNAME:FODER
X-ORIGINAL-URL:https://www.fo-der.org
X-WR-CALDESC:FODER için etkinlikler
BEGIN:VTIMEZONE
TZID:Europe/Istanbul
BEGIN:DAYLIGHT
TZOFFSETFROM:+0200
TZOFFSETTO:+0300
TZNAME:EEST
DTSTART:20160327T010000
END:DAYLIGHT
BEGIN:STANDARD
TZOFFSETFROM:+0300
TZOFFSETTO:+0300
TZNAME:+03
DTSTART:20160906T210000
END:STANDARD
END:VTIMEZONE
BEGIN:VEVENT
DTSTART;VALUE=DATE:20160314
DTEND;VALUE=DATE:20160315
DTSTAMP:20260422T083700
CREATED:20180723T111002Z
LAST-MODIFIED:20181001T074958Z
UID:5270-1457913600-1457999999@www.fo-der.org
SUMMARY:Küresel Para Haftası Borsa İstanbul Gong Töreni 2016
DESCRIPTION:Küresel Para Haftası\, her sene mart ayının ikinci haftasında\,tüm dünyada etkinliklerle ve aktivitelerle\, çocuklara ve gençlere doğru\, bilinçli harcamalar ve tüketim yaparak mevcut kaynaklarını etkin ve doğru kullanabilmeyi\, tasarruf edebilmeyi hedef ve alışkanlık haline getirebilmeyi ve birer girişimci olmalarını öğretmek amacıyla kutlanmaktadır. \n
URL:https://www.fo-der.org/etkinlik/kuresel-para-haftasi-borsa-istanbul-gong-toreni-2016/
LOCATION:İstanbul\, İstanbul\, İstanbul\, Türkiye
CATEGORIES:Lokal Etkinlik
ATTACH;FMTTYPE=image/jpeg:https://www.fo-der.org/wp-content/uploads/2016/03/H83A1783.jpg
END:VEVENT
END:VCALENDAR