BEGIN:VCALENDAR
VERSION:2.0
PRODID:-//FODER - ECPv5.1.0//NONSGML v1.0//EN
CALSCALE:GREGORIAN
METHOD:PUBLISH
X-WR-CALNAME:FODER
X-ORIGINAL-URL:https://www.fo-der.org
X-WR-CALDESC:FODER için etkinlikler
BEGIN:VTIMEZONE
TZID:Europe/Istanbul
BEGIN:STANDARD
TZOFFSETFROM:+0300
TZOFFSETTO:+0300
TZNAME:+03
DTSTART:20210101T000000
END:STANDARD
END:VTIMEZONE
BEGIN:VEVENT
DTSTART;TZID=Europe/Istanbul:20210329T160000
DTEND;TZID=Europe/Istanbul:20210329T170000
DTSTAMP:20260422T204015
CREATED:20210325T131013Z
LAST-MODIFIED:20210325T131013Z
UID:7962-1617033600-1617037200@www.fo-der.org
SUMMARY:Kariyer Günleri: Portföy Yönetimi
DESCRIPTION:
URL:https://www.fo-der.org/etkinlik/kariyer-gunleri-portfoy-yonetimi/
END:VEVENT
END:VCALENDAR