BEGIN:VCALENDAR
VERSION:2.0
PRODID:-//FODER - ECPv5.1.0//NONSGML v1.0//EN
CALSCALE:GREGORIAN
METHOD:PUBLISH
X-WR-CALNAME:FODER
X-ORIGINAL-URL:https://www.fo-der.org
X-WR-CALDESC:FODER için etkinlikler
BEGIN:VTIMEZONE
TZID:Europe/Istanbul
BEGIN:STANDARD
TZOFFSETFROM:+0300
TZOFFSETTO:+0300
TZNAME:+03
DTSTART:20250101T000000
END:STANDARD
END:VTIMEZONE
BEGIN:VEVENT
DTSTART;TZID=Europe/Istanbul:20250130T190000
DTEND;TZID=Europe/Istanbul:20250130T203000
DTSTAMP:20260422T204457
CREATED:20241118T064719Z
LAST-MODIFIED:20241209T072845Z
UID:9406-1738263600-1738269000@www.fo-der.org
SUMMARY:Gönüllü Oryantasyon Toplantısı (Ocak 2025)
DESCRIPTION:
URL:https://www.fo-der.org/etkinlik/gonullu-oryantasyon-toplantisi-ocak-2025/
END:VEVENT
END:VCALENDAR