BEGIN:VCALENDAR
VERSION:2.0
PRODID:-//FODER - ECPv5.1.0//NONSGML v1.0//EN
CALSCALE:GREGORIAN
METHOD:PUBLISH
X-WR-CALNAME:FODER
X-ORIGINAL-URL:https://www.fo-der.org
X-WR-CALDESC:FODER için etkinlikler
BEGIN:VTIMEZONE
TZID:Europe/Istanbul
BEGIN:STANDARD
TZOFFSETFROM:+0300
TZOFFSETTO:+0300
TZNAME:+03
DTSTART:20230101T000000
END:STANDARD
END:VTIMEZONE
BEGIN:VEVENT
DTSTART;TZID=Europe/Istanbul:20230726T210000
DTEND;TZID=Europe/Istanbul:20230726T220000
DTSTAMP:20260423T052707
CREATED:20230705T085054Z
LAST-MODIFIED:20230705T085054Z
UID:8814-1690405200-1690408800@www.fo-der.org
SUMMARY:FODER Kitap Kulübü Temmuz 2023: İllüzyon Ekonomisi
DESCRIPTION:
URL:https://www.fo-der.org/etkinlik/foder-kitap-kulubu-temmuz-2023-illuzyon-ekonomisi/
END:VEVENT
END:VCALENDAR