BEGIN:VCALENDAR
VERSION:2.0
PRODID:-//FODER - ECPv5.1.0//NONSGML v1.0//EN
CALSCALE:GREGORIAN
METHOD:PUBLISH
X-WR-CALNAME:FODER
X-ORIGINAL-URL:https://www.fo-der.org
X-WR-CALDESC:FODER için etkinlikler
BEGIN:VTIMEZONE
TZID:Europe/Istanbul
BEGIN:STANDARD
TZOFFSETFROM:+0300
TZOFFSETTO:+0300
TZNAME:+03
DTSTART:20210101T000000
END:STANDARD
END:VTIMEZONE
BEGIN:VEVENT
DTSTART;TZID=Europe/Istanbul:20210324T210000
DTEND;TZID=Europe/Istanbul:20210324T220000
DTSTAMP:20260422T170658
CREATED:20210311T122108Z
LAST-MODIFIED:20210311T122108Z
UID:7909-1616619600-1616623200@www.fo-der.org
SUMMARY:FODER Kitap Kulübü: Geleceği Görenler
DESCRIPTION:
URL:https://www.fo-der.org/etkinlik/foder-kitap-kulubu-gelecegi-gorenler/
END:VEVENT
END:VCALENDAR