BEGIN:VCALENDAR
VERSION:2.0
PRODID:-//FODER - ECPv5.1.0//NONSGML v1.0//EN
CALSCALE:GREGORIAN
METHOD:PUBLISH
X-WR-CALNAME:FODER
X-ORIGINAL-URL:https://www.fo-der.org
X-WR-CALDESC:FODER için etkinlikler
BEGIN:VTIMEZONE
TZID:Europe/Istanbul
BEGIN:STANDARD
TZOFFSETFROM:+0300
TZOFFSETTO:+0300
TZNAME:+03
DTSTART:20240101T000000
END:STANDARD
END:VTIMEZONE
BEGIN:VEVENT
DTSTART;TZID=Europe/Istanbul:20240920T190000
DTEND;TZID=Europe/Istanbul:20240920T200000
DTSTAMP:20260422T225638
CREATED:20240625T082558Z
LAST-MODIFIED:20240625T082558Z
UID:9139-1726858800-1726862400@www.fo-der.org
SUMMARY:FODER Gönüllü Oryantasyonu
DESCRIPTION:
URL:https://www.fo-der.org/etkinlik/foder-gonullu-oryantasyonu-3/
END:VEVENT
END:VCALENDAR