BEGIN:VCALENDAR
VERSION:2.0
PRODID:-//FODER - ECPv5.1.0//NONSGML v1.0//EN
CALSCALE:GREGORIAN
METHOD:PUBLISH
X-WR-CALNAME:FODER
X-ORIGINAL-URL:https://www.fo-der.org
X-WR-CALDESC:FODER için etkinlikler
BEGIN:VTIMEZONE
TZID:Europe/Istanbul
BEGIN:DAYLIGHT
TZOFFSETFROM:+0200
TZOFFSETTO:+0300
TZNAME:EEST
DTSTART:20150329T010000
END:DAYLIGHT
BEGIN:STANDARD
TZOFFSETFROM:+0300
TZOFFSETTO:+0200
TZNAME:EET
DTSTART:20151108T010000
END:STANDARD
END:VTIMEZONE
BEGIN:VEVENT
DTSTART;VALUE=DATE:20150723
DTEND;VALUE=DATE:20150724
DTSTAMP:20260422T083955
CREATED:20180720T132137Z
LAST-MODIFIED:20180720T135426Z
UID:5130-1437609600-1437695999@www.fo-der.org
SUMMARY:Foder Gönüllü Buluşmaları
DESCRIPTION:22 Temmuz  2015 Çarşamba günü düzenlediğimiz ” Gönüllü Buluşması ” etkinliğimiz ile eğitimlerimizde\, proje ve faaliyetlerimizde aktif ilgi ve desteklerini esirgemeyen gönüllülerimizle bir araya gelindi. \nEtkinlik çerçevesinde finansal okuryazarlık hakkında sohbetler edilerek\,  Foder’in önümüzdeki eğitim döneminde hayata geçireceği MyBnk projesi hakkında bilgilendirmelerde bulunuldu. \nFODER Danışma Kurulu üyemiz Aslı Başgöz tarafından\, eğitimlerimizde aktif olarak gönüllü eğitmenlik yapan ve “Küresel Para Haftası” ile “Bütçesini Bilen Gençler” projelerimizde en çok sayıda eğitim veren gönüllümüz Murat Kılıç\, Mersin’de gerçekleştirdiğimiz eğitimlerde çok çaba gösteren ve eğitimler veren gönüllümüz Mustafa Yıldırım\, ve Foder’in 2014 – 2015 senelerinde çok sayıda eğitim veren gönüllümüz Meltem Altınay ‘a plaket verildi. \nYönetim Kurulu üyemiz ve Gönüllü Komitesi Başkanımız Burcu Geriş etkinlikte plaket alan gönüllülerimizle hatıra fotoğrafı çekildi. \nBunların yanı sıra etkinliğe katılan gönüllülerimize FODER Kurucu Başkanımız Özlem Denizmen’in ” Kartlarınla Mucize Yarat ” kitabı hediye edildi. \nBizleri böyle hoş bir etkinlikte yalnız bırakmayan Yönetim Kurulu üyemiz Gönüllü Komitesi başkanı Burcu Geriş \, Danışma Kurulu üyemiz Aslı Başgöz ve sevgili gönüllülerimize teşekkür ederiz. \nGelecek etkinliklerde görüşme dileği ile… \n\n			\n				#sc_gallery-1 {\n					margin: auto;\n				}\n				#sc_gallery-1 .gallery-item {\n					float: left;\n					text-align: center;\n					width: 33.33%;\n				}\n				#sc_gallery-1 img {\n					border: 2px solid #cfcfcf;\n				}\n				/* see sc_gallery() in functions/theme-shortcodes.php */\n			\n		\n				\n					\n				\n				\n					\n				\n				\n					\n				\n				\n					\n				\n				\n					\n				\n				\n			\n\n  \n
URL:https://www.fo-der.org/etkinlik/foder-gonullu-bulusmalari/
LOCATION:İstanbul\, İstanbul\, İstanbul\, Türkiye
CATEGORIES:Lokal Etkinlik
ATTACH;FMTTYPE=image/jpeg:https://www.fo-der.org/wp-content/uploads/2018/07/IMG_0097.jpg
END:VEVENT
END:VCALENDAR