BEGIN:VCALENDAR
VERSION:2.0
PRODID:-//FODER - ECPv5.1.0//NONSGML v1.0//EN
CALSCALE:GREGORIAN
METHOD:PUBLISH
X-WR-CALNAME:FODER
X-ORIGINAL-URL:https://www.fo-der.org
X-WR-CALDESC:FODER için etkinlikler
BEGIN:VTIMEZONE
TZID:Europe/Istanbul
BEGIN:STANDARD
TZOFFSETFROM:+0300
TZOFFSETTO:+0300
TZNAME:+03
DTSTART:20230101T000000
END:STANDARD
END:VTIMEZONE
BEGIN:VEVENT
DTSTART;TZID=Europe/Istanbul:20230320T210000
DTEND;TZID=Europe/Istanbul:20230320T220000
DTSTAMP:20260423T040421
CREATED:20230323T115112Z
LAST-MODIFIED:20230323T115112Z
UID:8606-1679346000-1679349600@www.fo-der.org
SUMMARY:FODER Genç Kitap Kulübü - Mart 2023
DESCRIPTION:
URL:https://www.fo-der.org/etkinlik/foder-genc-kitap-kulubu-mart-2023/
CATEGORIES:Online Etkinlik
END:VEVENT
END:VCALENDAR