BEGIN:VCALENDAR
VERSION:2.0
PRODID:-//FODER - ECPv5.1.0//NONSGML v1.0//EN
CALSCALE:GREGORIAN
METHOD:PUBLISH
X-WR-CALNAME:FODER
X-ORIGINAL-URL:https://www.fo-der.org
X-WR-CALDESC:FODER için etkinlikler
BEGIN:VTIMEZONE
TZID:Europe/Istanbul
BEGIN:STANDARD
TZOFFSETFROM:+0300
TZOFFSETTO:+0300
TZNAME:+03
DTSTART:20210101T000000
END:STANDARD
END:VTIMEZONE
BEGIN:VEVENT
DTSTART;TZID=Europe/Istanbul:20210308T200000
DTEND;TZID=Europe/Istanbul:20210308T210000
DTSTAMP:20260422T101000
CREATED:20210311T122020Z
LAST-MODIFIED:20210311T122020Z
UID:7907-1615233600-1615237200@www.fo-der.org
SUMMARY:Clubhouse: Cinsiyet Eşitliği İçin Kadına Ekonomik Özgürlük
DESCRIPTION:
URL:https://www.fo-der.org/etkinlik/clubhouse-cinsiyet-esitligi-icin-kadina-ekonomik-ozgurluk/
END:VEVENT
END:VCALENDAR