BEGIN:VCALENDAR
VERSION:2.0
PRODID:-//FODER - ECPv5.1.0//NONSGML v1.0//EN
CALSCALE:GREGORIAN
METHOD:PUBLISH
X-WR-CALNAME:FODER
X-ORIGINAL-URL:https://www.fo-der.org
X-WR-CALDESC:FODER için etkinlikler
BEGIN:VTIMEZONE
TZID:Europe/Istanbul
BEGIN:STANDARD
TZOFFSETFROM:+0300
TZOFFSETTO:+0300
TZNAME:+03
DTSTART:20210101T000000
END:STANDARD
END:VTIMEZONE
BEGIN:VEVENT
DTSTART;TZID=Europe/Istanbul:20210325T170000
DTEND;TZID=Europe/Istanbul:20210325T180000
DTSTAMP:20260422T193524
CREATED:20210311T122405Z
LAST-MODIFIED:20210317T124022Z
UID:7913-1616691600-1616695200@www.fo-der.org
SUMMARY:Bütçesini Bilen Gençler: Hacattepe Üniversitesi
DESCRIPTION:
URL:https://www.fo-der.org/etkinlik/butcesini-bilen-gencler-hacattepe-universitesi/
END:VEVENT
END:VCALENDAR