BEGIN:VCALENDAR
VERSION:2.0
PRODID:-//FODER - ECPv5.1.0//NONSGML v1.0//EN
CALSCALE:GREGORIAN
METHOD:PUBLISH
X-WR-CALNAME:FODER
X-ORIGINAL-URL:https://www.fo-der.org
X-WR-CALDESC:FODER için etkinlikler
BEGIN:VTIMEZONE
TZID:Europe/Istanbul
BEGIN:STANDARD
TZOFFSETFROM:+0300
TZOFFSETTO:+0300
TZNAME:+03
DTSTART:20210101T000000
END:STANDARD
END:VTIMEZONE
BEGIN:VEVENT
DTSTART;TZID=Europe/Istanbul:20210331T140000
DTEND;TZID=Europe/Istanbul:20210331T150000
DTSTAMP:20260422T215313
CREATED:20210325T122838Z
LAST-MODIFIED:20210325T122838Z
UID:7960-1617199200-1617202800@www.fo-der.org
SUMMARY:Bütçesini Bilen Gençler: Abdullah Gül Üniversitesi
DESCRIPTION:
URL:https://www.fo-der.org/etkinlik/butcesini-bilen-gencler-abdullah-gul-universitesi/
END:VEVENT
END:VCALENDAR